BEGIN:VCALENDAR
VERSION:2.0
PRODID:-//Talamh Beo - ECPv6.15.20//NONSGML v1.0//EN
CALSCALE:GREGORIAN
METHOD:PUBLISH
X-WR-CALNAME:Talamh Beo
X-ORIGINAL-URL:https://talamhbeo.ie
X-WR-CALDESC:Events for Talamh Beo
REFRESH-INTERVAL;VALUE=DURATION:PT1H
X-Robots-Tag:noindex
X-PUBLISHED-TTL:PT1H
BEGIN:VTIMEZONE
TZID:Europe/Dublin
BEGIN:STANDARD
TZOFFSETFROM:+0000
TZOFFSETTO:+0100
TZNAME:IST
DTSTART:20230326T010000
END:STANDARD
BEGIN:DAYLIGHT
TZOFFSETFROM:+0100
TZOFFSETTO:+0000
TZNAME:GMT
DTSTART:20231029T010000
END:DAYLIGHT
BEGIN:STANDARD
TZOFFSETFROM:+0000
TZOFFSETTO:+0100
TZNAME:IST
DTSTART:20240331T010000
END:STANDARD
BEGIN:DAYLIGHT
TZOFFSETFROM:+0100
TZOFFSETTO:+0000
TZNAME:GMT
DTSTART:20241027T010000
END:DAYLIGHT
BEGIN:STANDARD
TZOFFSETFROM:+0000
TZOFFSETTO:+0100
TZNAME:IST
DTSTART:20250330T010000
END:STANDARD
BEGIN:DAYLIGHT
TZOFFSETFROM:+0100
TZOFFSETTO:+0000
TZNAME:GMT
DTSTART:20251026T010000
END:DAYLIGHT
END:VTIMEZONE
BEGIN:VEVENT
DTSTART;VALUE=DATE:20241105
DTEND;VALUE=DATE:20241107
DTSTAMP:20260424T050307
CREATED:20241025T133916Z
LAST-MODIFIED:20250321T135348Z
UID:18120-1730764800-1730937599@talamhbeo.ie
SUMMARY:Bio Farm Conferance
DESCRIPTION:National Organic Training Skillnet are delighted to confirm that BioFarm is back! Now in it’s seventh year\, Ireland’s Biological Farming Conference is returning to it’s classic 2-day in-person format\, and will take place in Adare\, Co Limerick\, on Tuesday November 5th and Wednesday November 6th 2024. \nThe event will host the usual high-level mix of Irish and international speakers on the topics of biological\, organic\, and regenerative farming. Speakers will be announced in the coming months leading up to November. Tickets are now on sale\, with overnight hotel packages also available. \nDates: Tuesday November 5th and Wednesday November 6th 2024\nTime: 09.00am – 5.00pm each day (hot lunch provided on both days for all participants)\nVenue: Fitzgeralds Woodlands House Hotel & Spa\, Adare\, Co Limerick\nCost: There are 6 Conference ticket packages – see below for details
URL:https://talamhbeo.ie/event/bio-farm-conferance/
LOCATION:Fitzgeralds Woodlands House Hotel & Spa\, Adare\, Co Limerick\, Fitzgeralds Woodlands House Hotel & Spa\,\, Adare\, Co Limerick
END:VEVENT
END:VCALENDAR